BEGIN:VCALENDAR
VERSION:2.0
PRODID:-//Library Market//iCal Export//EN
BEGIN:VEVENT
SUMMARY:Beginner Knitting Class @ Monaca
UID:5056
DTSTAMP:20260419T184100Z
DTSTART:20260505T220000Z
DTEND:20260506T000000Z
LOCATION:998 Indiana Ave, Monaca, PA 15061, United States
ROOM: Beginner Knitting Class @ Monaca
DESCRIPTION:Learn to knit or renew your skills in this beginner knitting c
 lass with an experienced instructor. Supplies provided. Call 724-775-9608 
 to register. 
URL:https://beavercounty.librarycalendar.com/event/beginner-knitting-class
 -monaca-5056
END:VEVENT
END:VCALENDAR
